BEGIN:VCALENDAR
VERSION:2.0
PRODID:-//Gesamtschule Verl - ECPv6.15.14//NONSGML v1.0//EN
CALSCALE:GREGORIAN
METHOD:PUBLISH
X-WR-CALNAME:Gesamtschule Verl
X-ORIGINAL-URL:https://www.gesamtschuleverl.de
X-WR-CALDESC:Veranstaltungen für Gesamtschule Verl
REFRESH-INTERVAL;VALUE=DURATION:PT1H
X-Robots-Tag:noindex
X-PUBLISHED-TTL:PT1H
BEGIN:VTIMEZONE
TZID:Europe/Berlin
BEGIN:DAYLIGHT
TZOFFSETFROM:+0100
TZOFFSETTO:+0200
TZNAME:CEST
DTSTART:20240331T010000
END:DAYLIGHT
BEGIN:STANDARD
TZOFFSETFROM:+0200
TZOFFSETTO:+0100
TZNAME:CET
DTSTART:20241027T010000
END:STANDARD
BEGIN:DAYLIGHT
TZOFFSETFROM:+0100
TZOFFSETTO:+0200
TZNAME:CEST
DTSTART:20250330T010000
END:DAYLIGHT
BEGIN:STANDARD
TZOFFSETFROM:+0200
TZOFFSETTO:+0100
TZNAME:CET
DTSTART:20251026T010000
END:STANDARD
BEGIN:DAYLIGHT
TZOFFSETFROM:+0100
TZOFFSETTO:+0200
TZNAME:CEST
DTSTART:20260329T010000
END:DAYLIGHT
BEGIN:STANDARD
TZOFFSETFROM:+0200
TZOFFSETTO:+0100
TZNAME:CET
DTSTART:20261025T010000
END:STANDARD
END:VTIMEZONE
BEGIN:VEVENT
DTSTART;TZID=Europe/Berlin:20251217T080000
DTEND;TZID=Europe/Berlin:20251217T084000
DTSTAMP:20260426T062532
CREATED:20250825T144831Z
LAST-MODIFIED:20250825T144831Z
UID:5672-1765958400-1765960800@www.gesamtschuleverl.de
SUMMARY:Gottesdienst (Jg. 6)
DESCRIPTION:
URL:https://www.gesamtschuleverl.de/event/gottesdienst-jg-6/
LOCATION:St.-Anna-Pfarrkirche
CATEGORIES:Jahrgang 6
END:VEVENT
BEGIN:VEVENT
DTSTART;TZID=Europe/Berlin:20251217T180000
DTEND;TZID=Europe/Berlin:20251217T193000
DTSTAMP:20260426T062532
CREATED:20251126T135237Z
LAST-MODIFIED:20251126T140445Z
UID:5832-1765994400-1765999800@www.gesamtschuleverl.de
SUMMARY:Infoabend Sekundarstufe II
DESCRIPTION:
URL:https://www.gesamtschuleverl.de/event/infoabend-sekundarstufe-ii-2/
LOCATION:Mensa 1. OG
CATEGORIES:Jahrgang 10,Jahrgang EF,Jahrgang Q1
END:VEVENT
END:VCALENDAR