BEGIN:VCALENDAR
VERSION:2.0
PRODID:-//Gesamtschule Verl - ECPv6.15.14//NONSGML v1.0//EN
CALSCALE:GREGORIAN
METHOD:PUBLISH
X-ORIGINAL-URL:https://www.gesamtschuleverl.de
X-WR-CALDESC:Veranstaltungen für Gesamtschule Verl
REFRESH-INTERVAL;VALUE=DURATION:PT1H
X-Robots-Tag:noindex
X-PUBLISHED-TTL:PT1H
BEGIN:VTIMEZONE
TZID:Europe/Berlin
BEGIN:DAYLIGHT
TZOFFSETFROM:+0100
TZOFFSETTO:+0200
TZNAME:CEST
DTSTART:20250330T010000
END:DAYLIGHT
BEGIN:STANDARD
TZOFFSETFROM:+0200
TZOFFSETTO:+0100
TZNAME:CET
DTSTART:20251026T010000
END:STANDARD
BEGIN:DAYLIGHT
TZOFFSETFROM:+0100
TZOFFSETTO:+0200
TZNAME:CEST
DTSTART:20260329T010000
END:DAYLIGHT
BEGIN:STANDARD
TZOFFSETFROM:+0200
TZOFFSETTO:+0100
TZNAME:CET
DTSTART:20261025T010000
END:STANDARD
BEGIN:DAYLIGHT
TZOFFSETFROM:+0100
TZOFFSETTO:+0200
TZNAME:CEST
DTSTART:20270328T010000
END:DAYLIGHT
BEGIN:STANDARD
TZOFFSETFROM:+0200
TZOFFSETTO:+0100
TZNAME:CET
DTSTART:20271031T010000
END:STANDARD
END:VTIMEZONE
BEGIN:VEVENT
DTSTART;TZID=Europe/Berlin:20260205T080000
DTEND;TZID=Europe/Berlin:20260205T140000
DTSTAMP:20260424T211623
CREATED:20250825T145937Z
LAST-MODIFIED:20250825T145937Z
UID:5683-1770278400-1770300000@www.gesamtschuleverl.de
SUMMARY:Crash Kurs NRW (EF)
DESCRIPTION:
URL:https://www.gesamtschuleverl.de/event/crash-kurs-nrw-ef/
CATEGORIES:Jahrgang EF
END:VEVENT
END:VCALENDAR