BEGIN:VCALENDAR
VERSION:2.0
PRODID:-//Gesamtschule Verl - ECPv6.15.14//NONSGML v1.0//EN
CALSCALE:GREGORIAN
METHOD:PUBLISH
X-WR-CALNAME:Gesamtschule Verl
X-ORIGINAL-URL:https://www.gesamtschuleverl.de
X-WR-CALDESC:Veranstaltungen für Gesamtschule Verl
REFRESH-INTERVAL;VALUE=DURATION:PT1H
X-Robots-Tag:noindex
X-PUBLISHED-TTL:PT1H
BEGIN:VTIMEZONE
TZID:Europe/Berlin
BEGIN:DAYLIGHT
TZOFFSETFROM:+0100
TZOFFSETTO:+0200
TZNAME:CEST
DTSTART:20250330T010000
END:DAYLIGHT
BEGIN:STANDARD
TZOFFSETFROM:+0200
TZOFFSETTO:+0100
TZNAME:CET
DTSTART:20251026T010000
END:STANDARD
BEGIN:DAYLIGHT
TZOFFSETFROM:+0100
TZOFFSETTO:+0200
TZNAME:CEST
DTSTART:20260329T010000
END:DAYLIGHT
BEGIN:STANDARD
TZOFFSETFROM:+0200
TZOFFSETTO:+0100
TZNAME:CET
DTSTART:20261025T010000
END:STANDARD
BEGIN:DAYLIGHT
TZOFFSETFROM:+0100
TZOFFSETTO:+0200
TZNAME:CEST
DTSTART:20270328T010000
END:DAYLIGHT
BEGIN:STANDARD
TZOFFSETFROM:+0200
TZOFFSETTO:+0100
TZNAME:CET
DTSTART:20271031T010000
END:STANDARD
END:VTIMEZONE
BEGIN:VEVENT
DTSTART;VALUE=DATE:20260209
DTEND;VALUE=DATE:20260212
DTSTAMP:20260424T143504
CREATED:20251126T140358Z
LAST-MODIFIED:20251126T140358Z
UID:5838-1770595200-1770854399@www.gesamtschuleverl.de
SUMMARY:Anmeldung zur Oberstufe
DESCRIPTION:Externe erhalten einen Anmeldetermin über das Sekretariat
URL:https://www.gesamtschuleverl.de/event/anmeldung-zur-oberstufe-4/
CATEGORIES:Jahrgang 10,Jahrgang EF,Jahrgang Q1
END:VEVENT
END:VCALENDAR