BEGIN:VCALENDAR
VERSION:2.0
PRODID:-//Gesamtschule Verl - ECPv6.15.14//NONSGML v1.0//EN
CALSCALE:GREGORIAN
METHOD:PUBLISH
X-WR-CALNAME:Gesamtschule Verl
X-ORIGINAL-URL:https://www.gesamtschuleverl.de
X-WR-CALDESC:Veranstaltungen für Gesamtschule Verl
REFRESH-INTERVAL;VALUE=DURATION:PT1H
X-Robots-Tag:noindex
X-PUBLISHED-TTL:PT1H
BEGIN:VTIMEZONE
TZID:Europe/Berlin
BEGIN:DAYLIGHT
TZOFFSETFROM:+0100
TZOFFSETTO:+0200
TZNAME:CEST
DTSTART:20250330T010000
END:DAYLIGHT
BEGIN:STANDARD
TZOFFSETFROM:+0200
TZOFFSETTO:+0100
TZNAME:CET
DTSTART:20251026T010000
END:STANDARD
BEGIN:DAYLIGHT
TZOFFSETFROM:+0100
TZOFFSETTO:+0200
TZNAME:CEST
DTSTART:20260329T010000
END:DAYLIGHT
BEGIN:STANDARD
TZOFFSETFROM:+0200
TZOFFSETTO:+0100
TZNAME:CET
DTSTART:20261025T010000
END:STANDARD
BEGIN:DAYLIGHT
TZOFFSETFROM:+0100
TZOFFSETTO:+0200
TZNAME:CEST
DTSTART:20270328T010000
END:DAYLIGHT
BEGIN:STANDARD
TZOFFSETFROM:+0200
TZOFFSETTO:+0100
TZNAME:CET
DTSTART:20271031T010000
END:STANDARD
END:VTIMEZONE
BEGIN:VEVENT
DTSTART;VALUE=DATE:20260223
DTEND;VALUE=DATE:20260228
DTSTAMP:20260423T153934
CREATED:20250825T150123Z
LAST-MODIFIED:20260108T150340Z
UID:5687-1771804800-1772236799@www.gesamtschuleverl.de
SUMMARY:Anmeldungen neuer Jg. 5
DESCRIPTION:Mo – Do: 9:00 – 12:00 Uhr und 16:00 – 18:00 Uhr \nFr: 9:00 – 14:00 Uhr
URL:https://www.gesamtschuleverl.de/event/anmeldungen-neuer-jg-5/
CATEGORIES:künftiger Jahrgang 5
END:VEVENT
BEGIN:VEVENT
DTSTART;VALUE=DATE:20260223
DTEND;VALUE=DATE:20260228
DTSTAMP:20260423T153934
CREATED:20250825T150255Z
LAST-MODIFIED:20250825T150255Z
UID:5691-1771804800-1772236799@www.gesamtschuleverl.de
SUMMARY:Wanderfahrt (Jg. 10)
DESCRIPTION:
URL:https://www.gesamtschuleverl.de/event/wanderfahrt-jg-10/
CATEGORIES:Jahrgang 10
END:VEVENT
END:VCALENDAR