BEGIN:VCALENDAR
VERSION:2.0
PRODID:-//Gesamtschule Verl - ECPv6.15.14//NONSGML v1.0//EN
CALSCALE:GREGORIAN
METHOD:PUBLISH
X-ORIGINAL-URL:https://www.gesamtschuleverl.de
X-WR-CALDESC:Veranstaltungen für Gesamtschule Verl
REFRESH-INTERVAL;VALUE=DURATION:PT1H
X-Robots-Tag:noindex
X-PUBLISHED-TTL:PT1H
BEGIN:VTIMEZONE
TZID:Europe/Berlin
BEGIN:DAYLIGHT
TZOFFSETFROM:+0100
TZOFFSETTO:+0200
TZNAME:CEST
DTSTART:20250330T010000
END:DAYLIGHT
BEGIN:STANDARD
TZOFFSETFROM:+0200
TZOFFSETTO:+0100
TZNAME:CET
DTSTART:20251026T010000
END:STANDARD
BEGIN:DAYLIGHT
TZOFFSETFROM:+0100
TZOFFSETTO:+0200
TZNAME:CEST
DTSTART:20260329T010000
END:DAYLIGHT
BEGIN:STANDARD
TZOFFSETFROM:+0200
TZOFFSETTO:+0100
TZNAME:CET
DTSTART:20261025T010000
END:STANDARD
BEGIN:DAYLIGHT
TZOFFSETFROM:+0100
TZOFFSETTO:+0200
TZNAME:CEST
DTSTART:20270328T010000
END:DAYLIGHT
BEGIN:STANDARD
TZOFFSETFROM:+0200
TZOFFSETTO:+0100
TZNAME:CET
DTSTART:20271031T010000
END:STANDARD
END:VTIMEZONE
BEGIN:VEVENT
DTSTART;VALUE=DATE:20260713
DTEND;VALUE=DATE:20260714
DTSTAMP:20260423T170641
CREATED:20250825T165734Z
LAST-MODIFIED:20250825T165734Z
UID:5723-1783900800-1783987199@www.gesamtschuleverl.de
SUMMARY:Wandertag
DESCRIPTION:
URL:https://www.gesamtschuleverl.de/event/wandertag-7/
CATEGORIES:Allgemein
END:VEVENT
BEGIN:VEVENT
DTSTART;VALUE=DATE:20260714
DTEND;VALUE=DATE:20260717
DTSTAMP:20260423T170641
CREATED:20250825T165809Z
LAST-MODIFIED:20250825T165809Z
UID:5725-1783987200-1784246399@www.gesamtschuleverl.de
SUMMARY:Projekttage
DESCRIPTION:Schulschluss um 13:15 Uhr
URL:https://www.gesamtschuleverl.de/event/projekttage-5/
CATEGORIES:Allgemein
END:VEVENT
BEGIN:VEVENT
DTSTART;TZID=Europe/Berlin:20260717T080000
DTEND;TZID=Europe/Berlin:20260717T103500
DTSTAMP:20260423T170641
CREATED:20250825T165852Z
LAST-MODIFIED:20250825T165852Z
UID:5727-1784275200-1784284500@www.gesamtschuleverl.de
SUMMARY:Zeugnisvergabe
DESCRIPTION:Schulschluss um 10:35 Uhr
URL:https://www.gesamtschuleverl.de/event/zeugnisvergabe/
CATEGORIES:Allgemein
END:VEVENT
BEGIN:VEVENT
DTSTART;VALUE=DATE:20260720
DTEND;VALUE=DATE:20260902
DTSTAMP:20260423T170641
CREATED:20250825T165926Z
LAST-MODIFIED:20250825T165926Z
UID:5729-1784505600-1788307199@www.gesamtschuleverl.de
SUMMARY:Sommerferien
DESCRIPTION:
URL:https://www.gesamtschuleverl.de/event/sommerferien-9/
CATEGORIES:Allgemein
END:VEVENT
END:VCALENDAR